100.000000000000000
0.0
0.0
-100.000000000000000
-1839912.5000000000
-43012.500000000000
