100.000000000000000
0.0
0.0
-100.000000000000000
-1888162.5000000000
92037.500000000000
