100.000000000000000
0.0
0.0
-100.000000000000000
390350.00000000000
-1374575.0000000000
