100.000000000000000
0.0
0.0
-100.000000000000000
244450.00000000000
-1284875.0000000000
