100.000000000000000
0.0
0.0
-100.000000000000000
-242800.00000000000
-2081600.0000000000
